BEGIN:VCALENDAR
VERSION:2.0
PRODID:-//Burlington County Agricultural Center - ECPv6.15.12.2//NONSGML v1.0//EN
CALSCALE:GREGORIAN
METHOD:PUBLISH
X-ORIGINAL-URL:https://www.burlcoagcenter.com
X-WR-CALDESC:Events for Burlington County Agricultural Center
REFRESH-INTERVAL;VALUE=DURATION:PT1H
X-Robots-Tag:noindex
X-PUBLISHED-TTL:PT1H
BEGIN:VTIMEZONE
TZID:America/New_York
BEGIN:DAYLIGHT
TZOFFSETFROM:-0500
TZOFFSETTO:-0400
TZNAME:EDT
DTSTART:20240310T070000
END:DAYLIGHT
BEGIN:STANDARD
TZOFFSETFROM:-0400
TZOFFSETTO:-0500
TZNAME:EST
DTSTART:20241103T060000
END:STANDARD
BEGIN:DAYLIGHT
TZOFFSETFROM:-0500
TZOFFSETTO:-0400
TZNAME:EDT
DTSTART:20250309T070000
END:DAYLIGHT
BEGIN:STANDARD
TZOFFSETFROM:-0400
TZOFFSETTO:-0500
TZNAME:EST
DTSTART:20251102T060000
END:STANDARD
BEGIN:DAYLIGHT
TZOFFSETFROM:-0500
TZOFFSETTO:-0400
TZNAME:EDT
DTSTART:20260308T070000
END:DAYLIGHT
BEGIN:STANDARD
TZOFFSETFROM:-0400
TZOFFSETTO:-0500
TZNAME:EST
DTSTART:20261101T060000
END:STANDARD
END:VTIMEZONE
BEGIN:VEVENT
DTSTART;TZID=America/New_York:20250504T123000
DTEND;TZID=America/New_York:20250504T140000
DTSTAMP:20260424T014303
CREATED:20250128T212901Z
LAST-MODIFIED:20250128T212901Z
UID:26489-1746361800-1746367200@www.burlcoagcenter.com
SUMMARY:Young Chefs: "Mommy" and Me Cooking Workshop
DESCRIPTION:Celebrate Mother’s Day with a heartwarming “Mommy” and Me cooking experience! Join us for a special hands-on class where children and their moms or grandma’s (or other special caregivers) can cook together\, creating delicious\, healthy meals that are perfect for the occasion. In this engaging class\, you’ll work side-by-side to build confidence in the kitchen while discovering the joy of preparing nutritious foods. Designed for children aged 4-9 and their adult companions\, our kid-friendly utensils and appliances ensure a safe and fun cooking adventure for everyone. We’re happy to accommodate most food allergies and dietary restrictions with advance notice\, and all recipes are always nut-free. Come share the love and create lasting memories with a homemade meal straight from the heart! \nAges: 4-9\, each ticket includes a child and their chosen caregiver \nAllergens: Gluten\, Dairy
URL:https://www.burlcoagcenter.com/event/young-chefs-mommy-and-me-cooking-workshop/
LOCATION:Burlington County Agricultural Center\, 500 Centerton Road\, Moorestown\, NJ\, 08057
CATEGORIES:Ag Center Classes,Children's Classes,Jamie Zwier
ATTACH;FMTTYPE=image/webp:https://www.burlcoagcenter.com/wp-content/uploads/2025/01/kids-hands-cooking-1-bing-free-comm-low.webp
END:VEVENT
END:VCALENDAR