BEGIN:VCALENDAR
VERSION:2.0
PRODID:-//Burlington County Agricultural Center - ECPv6.15.12.2//NONSGML v1.0//EN
CALSCALE:GREGORIAN
METHOD:PUBLISH
X-WR-CALNAME:Burlington County Agricultural Center
X-ORIGINAL-URL:https://www.burlcoagcenter.com
X-WR-CALDESC:Events for Burlington County Agricultural Center
REFRESH-INTERVAL;VALUE=DURATION:PT1H
X-Robots-Tag:noindex
X-PUBLISHED-TTL:PT1H
BEGIN:VTIMEZONE
TZID:America/New_York
BEGIN:DAYLIGHT
TZOFFSETFROM:-0500
TZOFFSETTO:-0400
TZNAME:EDT
DTSTART:20250309T070000
END:DAYLIGHT
BEGIN:STANDARD
TZOFFSETFROM:-0400
TZOFFSETTO:-0500
TZNAME:EST
DTSTART:20251102T060000
END:STANDARD
BEGIN:DAYLIGHT
TZOFFSETFROM:-0500
TZOFFSETTO:-0400
TZNAME:EDT
DTSTART:20260308T070000
END:DAYLIGHT
BEGIN:STANDARD
TZOFFSETFROM:-0400
TZOFFSETTO:-0500
TZNAME:EST
DTSTART:20261101T060000
END:STANDARD
BEGIN:DAYLIGHT
TZOFFSETFROM:-0500
TZOFFSETTO:-0400
TZNAME:EDT
DTSTART:20270314T070000
END:DAYLIGHT
BEGIN:STANDARD
TZOFFSETFROM:-0400
TZOFFSETTO:-0500
TZNAME:EST
DTSTART:20271107T060000
END:STANDARD
END:VTIMEZONE
BEGIN:VEVENT
DTSTART;TZID=America/New_York:20260610T180000
DTEND;TZID=America/New_York:20260610T203000
DTSTAMP:20260420T055515
CREATED:20260322T155542Z
LAST-MODIFIED:20260322T155542Z
UID:28237-1781114400-1781123400@www.burlcoagcenter.com
SUMMARY:German Strudel Workshop
DESCRIPTION:Join us for a hands-on German Apple Strudel class with Chef Davia! Learn to make this delicious dessert from scratch\, starting with the perfect dough. Discover traditional techniques for creating a thin\, flaky pastry that will impress your family and friends. As we bake the dessert\, we’ll prepare a rich vanilla sauce to complement your strudel. In the end\, we will taste and enjoy our handmade creation\, one bite at a time while enjoying a cup of tea. Suitable for beginners and experienced bakers alike\, this class offers a joyful experience in German & Austrian culinary traditions. \nBring a container for leftovers! \nAllergens: Dairy\, Nuts\, Wheat
URL:https://www.burlcoagcenter.com/event/german-strudel-workshop/
LOCATION:Burlington County Agricultural Center\, 500 Centerton Road\, Moorestown\, NJ\, 08057
CATEGORIES:Ag Center Classes,Culinary Classes,Davia Delgado
ATTACH;FMTTYPE=image/webp:https://www.burlcoagcenter.com/wp-content/uploads/2025/03/strudel-pixabay-free-low.webp
END:VEVENT
END:VCALENDAR