BEGIN:VCALENDAR
VERSION:2.0
PRODID:-//Burlington County Agricultural Center - ECPv6.15.12.2//NONSGML v1.0//EN
CALSCALE:GREGORIAN
METHOD:PUBLISH
X-WR-CALNAME:Burlington County Agricultural Center
X-ORIGINAL-URL:https://www.burlcoagcenter.com
X-WR-CALDESC:Events for Burlington County Agricultural Center
REFRESH-INTERVAL;VALUE=DURATION:PT1H
X-Robots-Tag:noindex
X-PUBLISHED-TTL:PT1H
BEGIN:VTIMEZONE
TZID:America/New_York
BEGIN:DAYLIGHT
TZOFFSETFROM:-0500
TZOFFSETTO:-0400
TZNAME:EDT
DTSTART:20250309T070000
END:DAYLIGHT
BEGIN:STANDARD
TZOFFSETFROM:-0400
TZOFFSETTO:-0500
TZNAME:EST
DTSTART:20251102T060000
END:STANDARD
BEGIN:DAYLIGHT
TZOFFSETFROM:-0500
TZOFFSETTO:-0400
TZNAME:EDT
DTSTART:20260308T070000
END:DAYLIGHT
BEGIN:STANDARD
TZOFFSETFROM:-0400
TZOFFSETTO:-0500
TZNAME:EST
DTSTART:20261101T060000
END:STANDARD
BEGIN:DAYLIGHT
TZOFFSETFROM:-0500
TZOFFSETTO:-0400
TZNAME:EDT
DTSTART:20270314T070000
END:DAYLIGHT
BEGIN:STANDARD
TZOFFSETFROM:-0400
TZOFFSETTO:-0500
TZNAME:EST
DTSTART:20271107T060000
END:STANDARD
END:VTIMEZONE
BEGIN:VEVENT
DTSTART;TZID=America/New_York:20260721T150000
DTEND;TZID=America/New_York:20260721T173000
DTSTAMP:20260424T042639
CREATED:20260324T200517Z
LAST-MODIFIED:20260324T200517Z
UID:28259-1784646000-1784655000@www.burlcoagcenter.com
SUMMARY:Spatzle (Kasespatzle mit Salat)
DESCRIPTION:Our German baking specialist\, Davia Delgado is back in the kitchen! Learn how to make authentic Kasespatzle\, a German version of mac-n-cheese\, served with friend onions\, chives\, Gruyere and Swiss cheese. We’ll gets hands on making our spatzle and then eat dinner together with a German salad. Come hungry and bring a container in case there are leftovers! \nAllergens: Dairy\, Eggs\, Wheat
URL:https://www.burlcoagcenter.com/event/spatzle-kasespatzle-mit-salat/
LOCATION:Burlington County Agricultural Center\, 500 Centerton Road\, Moorestown\, NJ\, 08057
CATEGORIES:Ag Center Classes,Culinary Classes,Davia Delgado
ATTACH;FMTTYPE=image/webp:https://www.burlcoagcenter.com/wp-content/uploads/2025/06/spaetzle-mac-and-cheese-pixafree-med.webp
END:VEVENT
END:VCALENDAR