BEGIN:VCALENDAR
VERSION:2.0
PRODID:-//Burlington County Agricultural Center - ECPv6.15.12.2//NONSGML v1.0//EN
CALSCALE:GREGORIAN
METHOD:PUBLISH
X-WR-CALNAME:Burlington County Agricultural Center
X-ORIGINAL-URL:https://www.burlcoagcenter.com
X-WR-CALDESC:Events for Burlington County Agricultural Center
REFRESH-INTERVAL;VALUE=DURATION:PT1H
X-Robots-Tag:noindex
X-PUBLISHED-TTL:PT1H
BEGIN:VTIMEZONE
TZID:America/New_York
BEGIN:DAYLIGHT
TZOFFSETFROM:-0500
TZOFFSETTO:-0400
TZNAME:EDT
DTSTART:20240310T070000
END:DAYLIGHT
BEGIN:STANDARD
TZOFFSETFROM:-0400
TZOFFSETTO:-0500
TZNAME:EST
DTSTART:20241103T060000
END:STANDARD
BEGIN:DAYLIGHT
TZOFFSETFROM:-0500
TZOFFSETTO:-0400
TZNAME:EDT
DTSTART:20250309T070000
END:DAYLIGHT
BEGIN:STANDARD
TZOFFSETFROM:-0400
TZOFFSETTO:-0500
TZNAME:EST
DTSTART:20251102T060000
END:STANDARD
BEGIN:DAYLIGHT
TZOFFSETFROM:-0500
TZOFFSETTO:-0400
TZNAME:EDT
DTSTART:20260308T070000
END:DAYLIGHT
BEGIN:STANDARD
TZOFFSETFROM:-0400
TZOFFSETTO:-0500
TZNAME:EST
DTSTART:20261101T060000
END:STANDARD
END:VTIMEZONE
BEGIN:VEVENT
DTSTART;TZID=America/New_York:20251023T180000
DTEND;TZID=America/New_York:20251023T210000
DTSTAMP:20260423T073650
CREATED:20250702T165831Z
LAST-MODIFIED:20250702T165831Z
UID:27112-1761242400-1761253200@www.burlcoagcenter.com
SUMMARY:Tuscan Pasta Traditions
DESCRIPTION:Tuscany is one of Chef Ed’s favorite regions of Italy! Join us for a Tuscan pasta class featuring two of chef’s favorites\, Pici with a Tuscan Green Sauce and Gnudi with Brown Butter Sage! We’ll talk about Tuscan food traditions will we make and roll our pasta and chef demonstrates the sauces. \nYou will be greeted with antipasto\, enjoy some of our pastas in class\, and finish with a traditional tiramisu.  \nThis class is vegetarian friendly. Allergens: Dairy\, Egg\, Wheat 
URL:https://www.burlcoagcenter.com/event/tuscan-pasta-traditions/
LOCATION:Burlington County Agricultural Center\, 500 Centerton Road\, Moorestown\, NJ\, 08057
CATEGORIES:Ag Center Classes,Culinary Classes,Edward Strojan
ATTACH;FMTTYPE=image/webp:https://www.burlcoagcenter.com/wp-content/uploads/2025/04/pasta-Spinach-and-ricotta-gnudi-bing-free-med.webp
END:VEVENT
END:VCALENDAR