BEGIN:VCALENDAR
VERSION:2.0
PRODID:-//Burlington County Agricultural Center - ECPv6.15.12.2//NONSGML v1.0//EN
CALSCALE:GREGORIAN
METHOD:PUBLISH
X-ORIGINAL-URL:https://www.burlcoagcenter.com
X-WR-CALDESC:Events for Burlington County Agricultural Center
REFRESH-INTERVAL;VALUE=DURATION:PT1H
X-Robots-Tag:noindex
X-PUBLISHED-TTL:PT1H
BEGIN:VTIMEZONE
TZID:America/New_York
BEGIN:DAYLIGHT
TZOFFSETFROM:-0500
TZOFFSETTO:-0400
TZNAME:EDT
DTSTART:20240310T070000
END:DAYLIGHT
BEGIN:STANDARD
TZOFFSETFROM:-0400
TZOFFSETTO:-0500
TZNAME:EST
DTSTART:20241103T060000
END:STANDARD
BEGIN:DAYLIGHT
TZOFFSETFROM:-0500
TZOFFSETTO:-0400
TZNAME:EDT
DTSTART:20250309T070000
END:DAYLIGHT
BEGIN:STANDARD
TZOFFSETFROM:-0400
TZOFFSETTO:-0500
TZNAME:EST
DTSTART:20251102T060000
END:STANDARD
BEGIN:DAYLIGHT
TZOFFSETFROM:-0500
TZOFFSETTO:-0400
TZNAME:EDT
DTSTART:20260308T070000
END:DAYLIGHT
BEGIN:STANDARD
TZOFFSETFROM:-0400
TZOFFSETTO:-0500
TZNAME:EST
DTSTART:20261101T060000
END:STANDARD
END:VTIMEZONE
BEGIN:VEVENT
DTSTART;TZID=America/New_York:20251113T180000
DTEND;TZID=America/New_York:20251113T210000
DTSTAMP:20260421T071240
CREATED:20250805T183239Z
LAST-MODIFIED:20250805T183239Z
UID:27114-1763056800-1763067600@www.burlcoagcenter.com
SUMMARY:Spanish Tapas
DESCRIPTION:Come to the Farmhouse Kitchen to explore the flavors of Spain with our Spanish tapas class\, featuring small plates from around Spain like classic Tortilla Espanola to Chef Ed’s take on Spanish meatballs.  You will be greeted with light snacks while Chef Ed discusses the history of tapas and demonstrates five tapas. We will snack as things are prepared. \nIn this session\, we can accommodate gluten free needs. Allergens: Dairy\, Eggs\, Wheat \n 
URL:https://www.burlcoagcenter.com/event/spanish-tapas/
LOCATION:Burlington County Agricultural Center\, 500 Centerton Road\, Moorestown\, NJ\, 08057
CATEGORIES:Ag Center Classes,Culinary Classes,Edward Strojan
ATTACH;FMTTYPE=image/webp:https://www.burlcoagcenter.com/wp-content/uploads/2025/04/tapas-albondigas-bing-free-med.webp
END:VEVENT
END:VCALENDAR