BEGIN:VCALENDAR
VERSION:2.0
PRODID:-//Burlington County Agricultural Center - ECPv6.15.12.2//NONSGML v1.0//EN
CALSCALE:GREGORIAN
METHOD:PUBLISH
X-ORIGINAL-URL:https://www.burlcoagcenter.com
X-WR-CALDESC:Events for Burlington County Agricultural Center
REFRESH-INTERVAL;VALUE=DURATION:PT1H
X-Robots-Tag:noindex
X-PUBLISHED-TTL:PT1H
BEGIN:VTIMEZONE
TZID:America/New_York
BEGIN:DAYLIGHT
TZOFFSETFROM:-0500
TZOFFSETTO:-0400
TZNAME:EDT
DTSTART:20230312T070000
END:DAYLIGHT
BEGIN:STANDARD
TZOFFSETFROM:-0400
TZOFFSETTO:-0500
TZNAME:EST
DTSTART:20231105T060000
END:STANDARD
BEGIN:DAYLIGHT
TZOFFSETFROM:-0500
TZOFFSETTO:-0400
TZNAME:EDT
DTSTART:20240310T070000
END:DAYLIGHT
BEGIN:STANDARD
TZOFFSETFROM:-0400
TZOFFSETTO:-0500
TZNAME:EST
DTSTART:20241103T060000
END:STANDARD
BEGIN:DAYLIGHT
TZOFFSETFROM:-0500
TZOFFSETTO:-0400
TZNAME:EDT
DTSTART:20250309T070000
END:DAYLIGHT
BEGIN:STANDARD
TZOFFSETFROM:-0400
TZOFFSETTO:-0500
TZNAME:EST
DTSTART:20251102T060000
END:STANDARD
END:VTIMEZONE
BEGIN:VEVENT
DTSTART;TZID=America/New_York:20240501T180000
DTEND;TZID=America/New_York:20240501T203000
DTSTAMP:20260420T042206
CREATED:20240215T172725Z
LAST-MODIFIED:20240426T151154Z
UID:24341-1714586400-1714595400@www.burlcoagcenter.com
SUMMARY:Powerful Pestos
DESCRIPTION:Pesto is so much more than basil and pine nuts! \nWe will discuss the variety of pestos and how to pair them while we make a variety of pestos using herbs like lemon balm\, using peppers and even a dairy free version. We’ll enjoy some in class and send you home with more\, so be sure to bring a container.
URL:https://www.burlcoagcenter.com/event/powerful-pestos/
LOCATION:Burlington County Agricultural Center\, 500 Centerton Road\, Moorestown\, NJ\, 08057
CATEGORIES:Ag Center Classes,Amanda Rodriguez,Culinary Classes
ATTACH;FMTTYPE=image/webp:https://www.burlcoagcenter.com/wp-content/uploads/2024/02/pestos-pixa-free-med.webp
END:VEVENT
BEGIN:VEVENT
DTSTART;TZID=America/New_York:20240505T100000
DTEND;TZID=America/New_York:20240505T113000
DTSTAMP:20260420T042206
CREATED:20240214T203045Z
LAST-MODIFIED:20240418T192939Z
UID:24291-1714903200-1714908600@www.burlcoagcenter.com
SUMMARY:Kids in the Garden: Let’s Shellebrate Turtles – Brumation and Turtle Hurdles
DESCRIPTION:As part of our Kids in the Garden sessions\, Miss Mindy presents a four-week series of classes on turtles\, Let’s Shellebrate Turtles! \nIn this session we learn about turtle brumation and how that differs from hibernation. Learn all about how turtles survive over winter in this fun\, play and make class with Miss Mindy or Mindy’s Den. We’ll do the “turtle hurdles obstacle course to learn about threats to turtle survival and make models of how turtles live in the winter. \nThis class will be outdoors\, weather permitting\, and have indoor space in case of inclement weather. Mindy’s classes are designed as drop off classes\, but each ticket includes a supervising adult if you are more comfortable staying. \nWe encourage you to sign up for all four classes in the series\, but it is not mandatory.
URL:https://www.burlcoagcenter.com/event/kids-in-the-garden-lets-shellebrate-turtles-brumation-and-turtle-hurdles/
LOCATION:Burlington County Agricultural Center\, 500 Centerton Road\, Moorestown\, NJ\, 08057
CATEGORIES:Ag Center Classes,Children's Classes,Home and Garden,Mindy Jansen
ATTACH;FMTTYPE=image/webp:https://www.burlcoagcenter.com/wp-content/uploads/2024/02/turtle-2-free-pixa-med.webp
END:VEVENT
BEGIN:VEVENT
DTSTART;TZID=America/New_York:20240508T180000
DTEND;TZID=America/New_York:20240508T210000
DTSTAMP:20260420T042206
CREATED:20240214T205123Z
LAST-MODIFIED:20240306T191709Z
UID:24293-1715191200-1715202000@www.burlcoagcenter.com
SUMMARY:Spring Onion Galette with Buttermilk Ricotta
DESCRIPTION:The galette is the heartier\, rustic version if pie. Free form and baked right on the baking sheet\, these pastries can be sweet or savory. We’ll start by making the dough. While the dough chills\, we’ll show you how to make fresh milk into silky ricotta\, then build the filling for your galettes to bake and enjoy in class.
URL:https://www.burlcoagcenter.com/event/spring-onion-galette-with-buttermilk-ricotta/
LOCATION:Burlington County Agricultural Center\, 500 Centerton Road\, Moorestown\, NJ\, 08057
CATEGORIES:Ag Center Classes,Culinary Classes,Tamara Christians
ATTACH;FMTTYPE=image/webp:https://www.burlcoagcenter.com/wp-content/uploads/2024/02/galette-free-med.webp
END:VEVENT
BEGIN:VEVENT
DTSTART;TZID=America/New_York:20240509T180000
DTEND;TZID=America/New_York:20240509T210000
DTSTAMP:20260420T042206
CREATED:20240221T203515Z
LAST-MODIFIED:20240306T191627Z
UID:24499-1715277600-1715288400@www.burlcoagcenter.com
SUMMARY:Asian Dumplings
DESCRIPTION:Get hands on in the Farmhouse Kitchen and learn how to make your own Asian-style dumpling from scratch. Working with Chef Mike\, you will make your wrappers\, filling and Ponzu dipping sauce from scratch. Once we have made assembled our dumplings\, practice the wrapping techniques\, we will cook some to enjoy in class. Containers will be available if you want to take some home to share.
URL:https://www.burlcoagcenter.com/event/asian-dumplings/
LOCATION:Burlington County Agricultural Center\, 500 Centerton Road\, Moorestown\, NJ\, 08057
CATEGORIES:Ag Center Classes,Culinary Classes,Mike Rakoski
ATTACH;FMTTYPE=image/webp:https://www.burlcoagcenter.com/wp-content/uploads/2024/02/asian-dumpling-pixa-low.webp
END:VEVENT
BEGIN:VEVENT
DTSTART;TZID=America/New_York:20240511T083000
DTEND;TZID=America/New_York:20240511T130000
DTSTAMP:20260420T042206
CREATED:20240228T160750Z
LAST-MODIFIED:20240729T143635Z
UID:24606-1715416200-1715432400@www.burlcoagcenter.com
SUMMARY:Farmers Market Opening Day / Spring Garden
DESCRIPTION:Farmers Market Opening Day / Spring Garden \nThis will be a very special day for the market\, as it is not only our Opening Day to the regular season… it will also be our Spring Garden Market! \nHere’s what you can expect: \n\nEarly Season Veggies\nNative Plants\nAnnuals & Perennials\nGarden-Themed Demos\nHerb Starters\nHands-On Activities\nBaked Goods\nPrepared Foods\nFarm Fresh lamb\, pork & beef\nArtisan Cheeses\nLocal Honey\nFresh Eggs\nFlowers\nCooking Demos\nArtisans & Crafters\nLive Music
URL:https://www.burlcoagcenter.com/event/24606/
LOCATION:Burlington County Agricultural Center\, 500 Centerton Road\, Moorestown\, NJ\, 08057
CATEGORIES:Farmers Market
ATTACH;FMTTYPE=image/jpeg:https://www.burlcoagcenter.com/wp-content/uploads/2024/02/Durrs-4.jpg
END:VEVENT
BEGIN:VEVENT
DTSTART;TZID=America/New_York:20240516T180000
DTEND;TZID=America/New_York:20240516T210000
DTSTAMP:20260420T042206
CREATED:20240221T202414Z
LAST-MODIFIED:20240418T192744Z
UID:24493-1715882400-1715893200@www.burlcoagcenter.com
SUMMARY:Backyard Chickens: Scoop on the Coop\, Chickens 101
DESCRIPTION:Learn whether keeping hens is the right move for you from local expert\, Jaclyn Ricci. In this class we discuss the benefits of having backyard hens for composting\, sustainability\, and permaculture. Learn how hens help with insect control and provide wonderful fertilizer for the garden while significantly decreasing food waste in trash. Learn why towns all over South Jersey are modifying their old ordinances to allow backyard hens. Learn how to put hens to work in your yard!
URL:https://www.burlcoagcenter.com/event/backyard-chickens-scoop-on-the-coop-chickens-101/
LOCATION:Burlington County Agricultural Center\, 500 Centerton Road\, Moorestown\, NJ\, 08057
CATEGORIES:Ag Center Classes,Home and Garden,Jaclyn Ricci
ATTACH;FMTTYPE=image/webp:https://www.burlcoagcenter.com/wp-content/uploads/2024/02/chicken-head-on-kas-med.webp
END:VEVENT
BEGIN:VEVENT
DTSTART;TZID=America/New_York:20240518T083000
DTEND;TZID=America/New_York:20240518T130000
DTSTAMP:20260420T042206
CREATED:20240215T171632Z
LAST-MODIFIED:20240228T161453Z
UID:24336-1716021000-1716037200@www.burlcoagcenter.com
SUMMARY:Farmers Market
DESCRIPTION:Back in the swing of things for our 2024 Farmers Market season \nHere’s what you can expect: \n\nJersey Fresh Fruits & Vegetables\nBaked Goods & Prepared Foods\nFarm Fresh Meats\nArtisan Chocolate & Cheeses\nLocal Honey & Fresh Eggs\nCut Flowers\nCooking Demos\nPickles\, Sauces\, Jams & Jellies\nLocal Artists & Crafters\nVeggie & Herb Starters\nHanging Baskets\nAnnuals & Perennials\nLive Music
URL:https://www.burlcoagcenter.com/event/farmers-market-2/
LOCATION:NJ
CATEGORIES:Farmers Market
ATTACH;FMTTYPE=image/jpeg:https://www.burlcoagcenter.com/wp-content/uploads/2024/02/Cranberry-2.jpg
END:VEVENT
BEGIN:VEVENT
DTSTART;TZID=America/New_York:20240519T100000
DTEND;TZID=America/New_York:20240519T113000
DTSTAMP:20260420T042206
CREATED:20240214T204228Z
LAST-MODIFIED:20240306T191457Z
UID:24292-1716112800-1716118200@www.burlcoagcenter.com
SUMMARY:Kids in the Garden: Let’s Shellebrate Turtles – Turtle or Tortoise
DESCRIPTION:As part of our Kids in the Garden sessions\, Miss Mindy presents a four-week series of classes on turtles\, Let’s Shellebrate Turtles! \nIn this session we talk about the difference between turtles and tortoises. We’ll play a game to learn the difference between these two creatures\, and we’ll make a clay turtle to take home. \nThis class will be outdoors\, weather permitting\, and have indoor space in case of inclement weather. Mindy’s classes are designed as drop off classes\, but each ticket includes a supervising adult if you are more comfortable staying. \nWe encourage you to sign up for all four classes in the series\, but it is not mandatory.
URL:https://www.burlcoagcenter.com/event/kids-in-the-garden-lets-shellebrate-turtles-turtle-or-tortoise/
LOCATION:Burlington County Agricultural Center\, 500 Centerton Road\, Moorestown\, NJ\, 08057
CATEGORIES:Ag Center Classes,Children's Classes,Home and Garden,Mindy Jansen
ATTACH;FMTTYPE=image/webp:https://www.burlcoagcenter.com/wp-content/uploads/2024/02/turtle-tortoise-free-pixa-med.webp
END:VEVENT
BEGIN:VEVENT
DTSTART;TZID=America/New_York:20240521T180000
DTEND;TZID=America/New_York:20240521T210000
DTSTAMP:20260420T042206
CREATED:20240214T202602Z
LAST-MODIFIED:20240306T191433Z
UID:24289-1716314400-1716325200@www.burlcoagcenter.com
SUMMARY:Make Your Own: Irresistible Infusions!
DESCRIPTION:Infusion is a way of transferring flavor from an original source (a fruit\, an herb) into another substance (vinegar\, water\, alcohol\, sugar\, salt). Infused creations make great gifts and are a delicious addition to your cooking techniques. \nIn this class you’ll learn the principals of infusing flavor\, the differences between liquid versus solid infusions\, all while we get hands on infusing both a vinegar and an oil. We’ll talk about the many variations and gift ideas you can try out in your own kitchen. Please bring 2 tightly sealed container to take your infusions home.
URL:https://www.burlcoagcenter.com/event/make-your-own-irresistible-infusions/
LOCATION:Burlington County Agricultural Center\, 500 Centerton Road\, Moorestown\, NJ\, 08057
CATEGORIES:Ag Center Classes,Amanda Rodriguez,Culinary Classes
ATTACH;FMTTYPE=image/webp:https://www.burlcoagcenter.com/wp-content/uploads/2024/02/infused-vinegar-pixa-free-med.webp
END:VEVENT
BEGIN:VEVENT
DTSTART;TZID=America/New_York:20240522T180000
DTEND;TZID=America/New_York:20240522T210000
DTSTAMP:20260420T042206
CREATED:20240215T175502Z
LAST-MODIFIED:20240306T191404Z
UID:24360-1716400800-1716411600@www.burlcoagcenter.com
SUMMARY:Cooking with Botanicals; Compound Butters\, Butter Boards and Candles
DESCRIPTION:Learn to use spring blossoms\, fresh herbs and shoots to make flavorful and visually stunning butter creations. We’ll start with compound butters\, combining your favorite seasonings with colorful botanicals into two forms that you can use to enhance everything from steak to veggies. After\, we’ll demonstrate how to make a butter candle and then work together to create Pinterest-worthy butter boards for you to enjoy at home. As always\, we will discuss flavor combinations and what to eat with your butter art.
URL:https://www.burlcoagcenter.com/event/cooking-with-botanicals-compound-butters-butter-boards-and-candles/
LOCATION:Burlington County Agricultural Center\, 500 Centerton Road\, Moorestown\, NJ\, 08057
CATEGORIES:Ag Center Classes,Culinary Classes,Tamara Christians
ATTACH;FMTTYPE=image/webp:https://www.burlcoagcenter.com/wp-content/uploads/2024/02/butter-board-3-wiki-free-med.webp
END:VEVENT
BEGIN:VEVENT
DTSTART;TZID=America/New_York:20240523T180000
DTEND;TZID=America/New_York:20240523T210000
DTSTAMP:20260420T042206
CREATED:20240221T204258Z
LAST-MODIFIED:20240306T191555Z
UID:24501-1716487200-1716498000@www.burlcoagcenter.com
SUMMARY:Margherita Pizza
DESCRIPTION:Margherita pizza has been a tradition in Naples for more than a century and was popularized when Queen Margherita of Savoy visited the city in the late 1800s. A simple Margherita Pizza\, made with fresh basil\, mozzarella and tomatoes (in the colors of the Italian flag) is a beautiful thing. Get hands on making and proofing dough\, then get some pro tips on rolling out your dough to create the perfect crust. Each person will get a 5oz dough ball\, and all the ingredients to make an individual margherita pizza from scratch. We will bake our pizzas together in class and enjoy the flavors of summer together.
URL:https://www.burlcoagcenter.com/event/margherita-pizza/
LOCATION:Burlington County Agricultural Center\, 500 Centerton Road\, Moorestown\, NJ\, 08057
CATEGORIES:Ag Center Classes,Culinary Classes,Mike Rakoski
ATTACH;FMTTYPE=image/jpeg:https://www.burlcoagcenter.com/wp-content/uploads/2024/02/margherita-pizza.jpg
END:VEVENT
BEGIN:VEVENT
DTSTART;TZID=America/New_York:20240525T083000
DTEND;TZID=America/New_York:20240525T130000
DTSTAMP:20260420T042206
CREATED:20240215T171728Z
LAST-MODIFIED:20240228T161531Z
UID:24339-1716625800-1716642000@www.burlcoagcenter.com
SUMMARY:Farmers Market
DESCRIPTION:Farmers Market \nJersey Fresh Fruits & Vegetables \nBaked Goods & Prepared Foods \nFarm Fresh Meats \nArtisan Chocolate & Cheeses \nLocal Honey & Fresh Eggs \nCut Flowers \nCooking Demos \nPickles\, Sauces\, Jams & Jellies \nLocal Artists & Crafters \nVeggie & Herb Starters \nHanging Baskets \nAnnuals & Perennials \nLive Music
URL:https://www.burlcoagcenter.com/event/farmers-market-3/
LOCATION:NJ
CATEGORIES:Farmers Market
ATTACH;FMTTYPE=image/jpeg:https://www.burlcoagcenter.com/wp-content/uploads/2024/02/IMG_2685-scaled.jpg
END:VEVENT
END:VCALENDAR